BEGIN:VCALENDAR
VERSION:2.0
PRODID:-//Star Hill Timberworks - ECPv6.15.17.1//NONSGML v1.0//EN
CALSCALE:GREGORIAN
METHOD:PUBLISH
X-WR-CALNAME:Star Hill Timberworks
X-ORIGINAL-URL:https://www.starhilltimberworks.com
X-WR-CALDESC:Events for Star Hill Timberworks
REFRESH-INTERVAL;VALUE=DURATION:PT1H
X-Robots-Tag:noindex
X-PUBLISHED-TTL:PT1H
BEGIN:VTIMEZONE
TZID:America/Chicago
BEGIN:DAYLIGHT
TZOFFSETFROM:-0600
TZOFFSETTO:-0500
TZNAME:CDT
DTSTART:20230312T080000
END:DAYLIGHT
BEGIN:STANDARD
TZOFFSETFROM:-0500
TZOFFSETTO:-0600
TZNAME:CST
DTSTART:20231105T070000
END:STANDARD
BEGIN:DAYLIGHT
TZOFFSETFROM:-0600
TZOFFSETTO:-0500
TZNAME:CDT
DTSTART:20240310T080000
END:DAYLIGHT
BEGIN:STANDARD
TZOFFSETFROM:-0500
TZOFFSETTO:-0600
TZNAME:CST
DTSTART:20241103T070000
END:STANDARD
BEGIN:DAYLIGHT
TZOFFSETFROM:-0600
TZOFFSETTO:-0500
TZNAME:CDT
DTSTART:20250309T080000
END:DAYLIGHT
BEGIN:STANDARD
TZOFFSETFROM:-0500
TZOFFSETTO:-0600
TZNAME:CST
DTSTART:20251102T070000
END:STANDARD
END:VTIMEZONE
BEGIN:VEVENT
DTSTART;TZID=America/Chicago:20241002T073000
DTEND;TZID=America/Chicago:20241006T170000
DTSTAMP:20260424T050302
CREATED:20240512T133908Z
LAST-MODIFIED:20241011T162543Z
UID:377-1727854200-1728234000@www.starhilltimberworks.com
SUMMARY:Fundamentals Timber Framing Class
DESCRIPTION:Learn new framing practices.\n  \nTimber Framing Class \nMaster the art of timber framing in our immersive 5-day class! Learn and apply square rule methods to construct a small\, beautiful timber-framed structure. Benefit from expert guidance\, hands-on construction\, and a comprehensive understanding of timber framing principles. Work with quality materials and join a supportive learning environment. \n  \nLocation \nClasses are held at our heated shop in Ellsworth\, Wisconsin. When the the weather permits\, we also like to work outside under cover. Ellsworth\, is 30 minutes south of Hudson\, Wisconsin and about an hour southeast of Minneapolis/St. Paul\, Minnesota.. \nLimited to 8 Students \n  \nRequired Equipment \nFraming Chisel 1 1/2″ or 2″ – If needed\, you can reserve your Star Hill chisel ($170) via the checkout process; your chisel will be available the first day of class. \nSturdy works shoes (we like protected toes) \nEar Plugs \nSafety Glasses \nGloves \nDust Mask (optional) \nCovid Mask (optional) \n  \nAccommodations \nPrimitive camping and lunch daily is included with the course fee. If you have dietary restriction\, let us know. Students have access to a grill\, outdoor shower\, outhouse\, refrigerator\, an eight foot fire ring\, and plenty of space to spread out and relax. Normally\, once or twice during the week we burn a big fire\, cook some brats\, and drink a cold one. \nIf you prefer the hotel or VRBO option\, Red Wing\, Minnesota is 11 miles away with plenty of accommodations. \n  \nWorkshop Fees/Equipment \nClass Fee = $1250. \nA $600 non-refundable deposit is required to reserve your spot\, the remainder is due the 1st day of the class. \n  \nTicket Types (Select when you checkout) \nClass Only ($1250) – $600 nonrefundable deposit\, $650 due on the 1st day of the class \nClass + Star Hill Chisel ($1420) – $600 nonrefundable deposit\, $820 due on the 1st day of the class \nClass + Kit ($2000) – $600 nonrefundable deposit\, $1400 due on on the 1st day of the class \nLink to Mortise Master User Guide \n  \nStar Hill Essentials Kit ($850\, discounted to $750 for students). Reserve your Star Hill Essentials Kit via the checkout process. Your kit will be available the first day of the workshop. \nThis Exclusive kit is only available at Star Hill events. The kit includes the following: \n\nMortise and Tenon Master Layout Tool (over 30 Functions)\nFramer’s Friend (Edge Referenced Layout Tool)\nStar Hill Forged 1.5″ Socket Chisel\nStar Hill Forged 2″ Socket Chisel\nJapanese “Baby Beast” Pull Saw\nJapanese “The Beast” Pull Saw\n“Big Boy” Tool Bag 24″\n\nDeposit is Non-Refundable
URL:https://www.starhilltimberworks.com/event/fundamentals-timber-framing-class-2/
LOCATION:Star Hill Timberworks\, Ellsworth\, WI\, 54011\, United States
CATEGORIES:Classes
ATTACH;FMTTYPE=image/jpeg:https://www.starhilltimberworks.com/wp-content/uploads/2024/05/star-hill-timberworks-class.jpg
END:VEVENT
END:VCALENDAR